BEGIN:VCALENDAR
VERSION:2.0
PRODID:-//Musikschule Michelsamt Surental - ECPv6.15.17.1//NONSGML v1.0//EN
CALSCALE:GREGORIAN
METHOD:PUBLISH
X-WR-CALNAME:Musikschule Michelsamt Surental
X-ORIGINAL-URL:https://msmichelsamt-surental.ch
X-WR-CALDESC:Veranstaltungen im Musikschule Michelsamt Surental
REFRESH-INTERVAL;VALUE=DURATION:PT1H
X-Robots-Tag:noindex
X-PUBLISHED-TTL:PT1H
BEGIN:VTIMEZONE
TZID:UTC
BEGIN:STANDARD
TZOFFSETFROM:+0000
TZOFFSETTO:+0000
TZNAME:UTC
DTSTART:20250101T000000
END:STANDARD
END:VTIMEZONE
BEGIN:VEVENT
DTSTART;TZID=UTC:20260309T080000
DTEND;TZID=UTC:20260501T170000
DTSTAMP:20260420T095415
CREATED:20250930T091206Z
LAST-MODIFIED:20250930T091206Z
UID:226464-1773043200-1777654800@msmichelsamt-surental.ch
SUMMARY:SCHNUPPERWOCHEN
DESCRIPTION:Angehende Schülerinnen und Schüler können nach individueller Vereinbarung den Unterricht der Lehrpersonen besuchen oder eine Probelektion erhalten. \nWann: Mo\, 09.03. bis Fr\, 01.05.2026 (ohne Schulferien)\nWo: Alle Standorte
URL:https://msmichelsamt-surental.ch/event/schnupperwochen/
LOCATION:Alle Standorte
END:VEVENT
BEGIN:VEVENT
DTSTART;TZID=UTC:20260501T183000
DTEND;TZID=UTC:20260501T193000
DTSTAMP:20260420T095415
CREATED:20250925T142805Z
LAST-MODIFIED:20250925T142943Z
UID:226411-1777660200-1777663800@msmichelsamt-surental.ch
SUMMARY:JAZZ  IM DOLDERHAUS
DESCRIPTION:Apéro – Vocal – Jazz vom Feinsten. Präsentiert von Gesangsschülerinnen- und schülern der KS Beromünster und der Musikschule. \nGESANGSSCHÜLERINNEN- UND SCHÜLER\nLeitung Jolanda Brunner\, Patricia Flury\nKlavier Peter Zihlmann
URL:https://msmichelsamt-surental.ch/event/jazz-im-dolderhaus/
LOCATION:Beromünster\, Haus zum Dolder\, Fläcke 17\, Beromünster\, 6215
END:VEVENT
BEGIN:VEVENT
DTSTART;TZID=UTC:20260503T000000
DTEND;TZID=UTC:20260503T000000
DTSTAMP:20260420T095415
CREATED:20250930T091705Z
LAST-MODIFIED:20250930T091705Z
UID:226467-1777766400-1777766400@msmichelsamt-surental.ch
SUMMARY:ANMELDESCHLUSS
DESCRIPTION:Schülerinnen und Schüler müssen sich jedes Jahr anmelden. Die Anmeldung gilt jeweils für ein ganzes Schuljahr. \nAnmeldeschluss\, Sonntag\, 3. Mai 2026.
URL:https://msmichelsamt-surental.ch/event/anmeldeschluss/
END:VEVENT
BEGIN:VEVENT
DTSTART;TZID=UTC:20260503T160000
DTEND;TZID=UTC:20260503T170000
DTSTAMP:20260420T095415
CREATED:20250925T143121Z
LAST-MODIFIED:20250925T143121Z
UID:226414-1777824000-1777827600@msmichelsamt-surental.ch
SUMMARY:FRÜHLINGSKONZERT JUVENTUS SINGERS
DESCRIPTION:Das Frühlingskonzert steht unter dem Motto: «Ein Jahr voller Lieder». \nJUVENTUS SINGERS\nLeitung Maria Tokac\, Patricia Flury
URL:https://msmichelsamt-surental.ch/event/fruehlingskonzert-juventus-singers/
LOCATION:Neudorf\, Gemeindesaal
END:VEVENT
BEGIN:VEVENT
DTSTART;TZID=UTC:20260505T180000
DTEND;TZID=UTC:20260505T190000
DTSTAMP:20260420T095415
CREATED:20250925T143358Z
LAST-MODIFIED:20250925T143358Z
UID:226416-1778004000-1778007600@msmichelsamt-surental.ch
SUMMARY:TALENTBÜHNE
DESCRIPTION:Eine Plattform für die Talente aus dem Michelsamt und Surental.
URL:https://msmichelsamt-surental.ch/event/talentbuehne/
LOCATION:Beromünster\, Stiftstheater
END:VEVENT
BEGIN:VEVENT
DTSTART;TZID=UTC:20260505T193000
DTEND;TZID=UTC:20260505T203000
DTSTAMP:20260420T095415
CREATED:20250925T143514Z
LAST-MODIFIED:20250925T143514Z
UID:226418-1778009400-1778013000@msmichelsamt-surental.ch
SUMMARY:TALENTBÜHNE
DESCRIPTION:Eine Plattform für die Talente aus dem Michelsamt und Surental.
URL:https://msmichelsamt-surental.ch/event/talentbuehne-2/
LOCATION:Beromünster Stiftstheater
END:VEVENT
BEGIN:VEVENT
DTSTART;TZID=UTC:20260513T170000
DTEND;TZID=UTC:20260513T180000
DTSTAMP:20260420T095415
CREATED:20250925T143838Z
LAST-MODIFIED:20250925T143838Z
UID:226420-1778691600-1778695200@msmichelsamt-surental.ch
SUMMARY:KONZERT IM HOF
DESCRIPTION:Ein Kurzkonzert für die Bewohnenden und Gäste vom Hof für Menschen mit Demenz
URL:https://msmichelsamt-surental.ch/event/konzert-im-hof-2/
LOCATION:Rickenbach\, Kapelle Hof
END:VEVENT
BEGIN:VEVENT
DTSTART;TZID=UTC:20260519T190000
DTEND;TZID=UTC:20260519T200000
DTSTAMP:20260420T095415
CREATED:20250925T144145Z
LAST-MODIFIED:20250925T144145Z
UID:226422-1779217200-1779220800@msmichelsamt-surental.ch
SUMMARY:SERENADE
DESCRIPTION:Unterhaltsame Abendmusik.
URL:https://msmichelsamt-surental.ch/event/serenade/
LOCATION:Kulmerau Kapelle
END:VEVENT
BEGIN:VEVENT
DTSTART;TZID=UTC:20260531T103000
DTEND;TZID=UTC:20260531T113000
DTSTAMP:20260420T095415
CREATED:20250925T144655Z
LAST-MODIFIED:20250925T144655Z
UID:226426-1780223400-1780227000@msmichelsamt-surental.ch
SUMMARY:MATINÉE
DESCRIPTION:Der Sonntagmorgen wird mit Musik verschönert.
URL:https://msmichelsamt-surental.ch/event/matinee/
LOCATION:Triengen\, Betagtenzentrum Lindenrain
END:VEVENT
BEGIN:VEVENT
DTSTART;VALUE=DATE:20260606
DTEND;VALUE=DATE:20260607
DTSTAMP:20260420T095415
CREATED:20250930T090344Z
LAST-MODIFIED:20250930T090344Z
UID:226446-1780704000-1780790399@msmichelsamt-surental.ch
SUMMARY:KANTONALES  JUGENDMUSIKFEST
DESCRIPTION:ENSEMBLE JUGENDMUSIK SURENTAL-MICHELSAMT\nBLASORCHESTER JUGENDMUSIK SURENTAL-MICHELSAMT\nBLECHBLÄSERENSEMBLE FORTEPIANO \nLITTLE BRASSERS \nJUGEND BRASS BAND MICHELSAMT-SURENTAL
URL:https://msmichelsamt-surental.ch/event/kantonales-jugendmusikfest/
LOCATION:Dagmersellen
END:VEVENT
BEGIN:VEVENT
DTSTART;TZID=UTC:20260608T190000
DTEND;TZID=UTC:20260608T200000
DTSTAMP:20260420T095415
CREATED:20250925T144822Z
LAST-MODIFIED:20250925T144822Z
UID:226428-1780945200-1780948800@msmichelsamt-surental.ch
SUMMARY:MATURAVORSPIELE
DESCRIPTION:Mit einem Prüfungskonzert schliessen die Lernenden das Wahlpflichtfach Musik ab.
URL:https://msmichelsamt-surental.ch/event/maturavorspiele/
LOCATION:Beromünster\, Aula Kantonsschule
END:VEVENT
BEGIN:VEVENT
DTSTART;TZID=UTC:20260609T190000
DTEND;TZID=UTC:20260609T200000
DTSTAMP:20260420T095415
CREATED:20250925T144930Z
LAST-MODIFIED:20250925T144930Z
UID:226430-1781031600-1781035200@msmichelsamt-surental.ch
SUMMARY:MATURAVORSPIELE
DESCRIPTION:Mit einem Prüfungskonzert schliessen die Lernenden das Wahlpflichtfach Musik ab.
URL:https://msmichelsamt-surental.ch/event/maturavorspiele-2/
LOCATION:Beromünster\, Aula Kantonsschule
END:VEVENT
BEGIN:VEVENT
DTSTART;TZID=UTC:20260616T190000
DTEND;TZID=UTC:20260616T200000
DTSTAMP:20260420T095415
CREATED:20250925T145259Z
LAST-MODIFIED:20250925T145259Z
UID:226432-1781636400-1781640000@msmichelsamt-surental.ch
SUMMARY:OPENAIR TRIENGEN
DESCRIPTION:Verschiedene Ensembles präsentieren ihr Können. \nENSEMBLES AUS ALLEN KLASSEN
URL:https://msmichelsamt-surental.ch/event/openair-triengen/
LOCATION:Triengen Hofacker
END:VEVENT
BEGIN:VEVENT
DTSTART;TZID=UTC:20260624T180000
DTEND;TZID=UTC:20260624T190000
DTSTAMP:20260420T095415
CREATED:20250925T145956Z
LAST-MODIFIED:20250925T145956Z
UID:226435-1782324000-1782327600@msmichelsamt-surental.ch
SUMMARY:ARENAKONZERT
DESCRIPTION:BLECHBLÄSERENSEMBLE FORTEPIANO\nLeitung Benjamin Wey \nLITTLE BRASSERS\nLeitung n.n. \nHOLZBLÄSERENSEMBLE\nLeitung Rolf Stirnemann \nPERKUSSIONSENSEMBLE\nLeitung Marcel Nussbaume
URL:https://msmichelsamt-surental.ch/event/arenakonzert/
LOCATION:Rickenbach\, Arena
END:VEVENT
END:VCALENDAR