BEGIN:VCALENDAR
VERSION:2.0
PRODID:-//Musikschule Michelsamt Surental - ECPv6.15.17.1//NONSGML v1.0//EN
CALSCALE:GREGORIAN
METHOD:PUBLISH
X-ORIGINAL-URL:https://msmichelsamt-surental.ch
X-WR-CALDESC:Veranstaltungen im Musikschule Michelsamt Surental
REFRESH-INTERVAL;VALUE=DURATION:PT1H
X-Robots-Tag:noindex
X-PUBLISHED-TTL:PT1H
BEGIN:VTIMEZONE
TZID:UTC
BEGIN:STANDARD
TZOFFSETFROM:+0000
TZOFFSETTO:+0000
TZNAME:UTC
DTSTART:20250101T000000
END:STANDARD
END:VTIMEZONE
BEGIN:VEVENT
DTSTART;TZID=UTC:20260309T080000
DTEND;TZID=UTC:20260501T170000
DTSTAMP:20260421T132959
CREATED:20250930T091206Z
LAST-MODIFIED:20250930T091206Z
UID:226464-1773043200-1777654800@msmichelsamt-surental.ch
SUMMARY:SCHNUPPERWOCHEN
DESCRIPTION:Angehende Schülerinnen und Schüler können nach individueller Vereinbarung den Unterricht der Lehrpersonen besuchen oder eine Probelektion erhalten. \nWann: Mo\, 09.03. bis Fr\, 01.05.2026 (ohne Schulferien)\nWo: Alle Standorte
URL:https://msmichelsamt-surental.ch/event/schnupperwochen/
LOCATION:Alle Standorte
END:VEVENT
BEGIN:VEVENT
DTSTART;TZID=UTC:20260325T190000
DTEND;TZID=UTC:20260325T200000
DTSTAMP:20260421T132959
CREATED:20250925T142207Z
LAST-MODIFIED:20260317T103021Z
UID:226407-1774465200-1774468800@msmichelsamt-surental.ch
SUMMARY:DUO- UND  TRIO-KONZERT
DESCRIPTION:Gemeinsames Musizieren in kleinen Besetzungen. \nProgramm
URL:https://msmichelsamt-surental.ch/event/duo-und-trio-konzert/
LOCATION:Gunzwil\, Evang. Pfarreizentrum
END:VEVENT
BEGIN:VEVENT
DTSTART;TZID=UTC:20260331T190000
DTEND;TZID=UTC:20260331T200000
DTSTAMP:20260421T132959
CREATED:20250925T142448Z
LAST-MODIFIED:20250925T142448Z
UID:226409-1774983600-1774987200@msmichelsamt-surental.ch
SUMMARY:8. MUSIC NIGHT
DESCRIPTION:Bei verschiedenen Kurzkonzerten gibt es musikalische und in den Pausen kulinarische Häppchen.
URL:https://msmichelsamt-surental.ch/event/8-music-night/
LOCATION:Beromünster\, Aula Kantonsschule
END:VEVENT
END:VCALENDAR